BEGIN:VCALENDAR
VERSION:2.0
PRODID:-//The Axe and Fiddle - ECPv6.15.8//NONSGML v1.0//EN
CALSCALE:GREGORIAN
METHOD:PUBLISH
X-WR-CALNAME:The Axe and Fiddle
X-ORIGINAL-URL:https://axeandfiddle.com
X-WR-CALDESC:Events for The Axe and Fiddle
REFRESH-INTERVAL;VALUE=DURATION:PT1H
X-Robots-Tag:noindex
X-PUBLISHED-TTL:PT1H
BEGIN:VTIMEZONE
TZID:America/Los_Angeles
BEGIN:DAYLIGHT
TZOFFSETFROM:-0800
TZOFFSETTO:-0700
TZNAME:PDT
DTSTART:20250309T100000
END:DAYLIGHT
BEGIN:STANDARD
TZOFFSETFROM:-0700
TZOFFSETTO:-0800
TZNAME:PST
DTSTART:20251102T090000
END:STANDARD
BEGIN:DAYLIGHT
TZOFFSETFROM:-0800
TZOFFSETTO:-0700
TZNAME:PDT
DTSTART:20260308T100000
END:DAYLIGHT
BEGIN:STANDARD
TZOFFSETFROM:-0700
TZOFFSETTO:-0800
TZNAME:PST
DTSTART:20261101T090000
END:STANDARD
BEGIN:DAYLIGHT
TZOFFSETFROM:-0800
TZOFFSETTO:-0700
TZNAME:PDT
DTSTART:20270314T100000
END:DAYLIGHT
BEGIN:STANDARD
TZOFFSETFROM:-0700
TZOFFSETTO:-0800
TZNAME:PST
DTSTART:20271107T090000
END:STANDARD
END:VTIMEZONE
BEGIN:VEVENT
DTSTART;TZID=America/Los_Angeles:20260314T200000
DTEND;TZID=America/Los_Angeles:20260314T220000
DTSTAMP:20260421T012836
CREATED:20260207T200157Z
LAST-MODIFIED:20260207T200209Z
UID:441-1773518400-1773525600@axeandfiddle.com
SUMMARY:Kegs Of Comedy W/ Alex Elkin  - $10 Advanced Purchase\, $12 Day of Show
DESCRIPTION:Comedy  \nIn 1994 Alex Elkin first hit the stage as a comedian but it wasn’t until 2016 after winning the prestigious 41st Annual International San Francisco Comedy Competition\, that he truly made his mark in stand-up comedy. In July 2018 he was honored by being chosen to go to Kuwait\, Baghdad\, Iraq and Syria to entertain the U.S. troops. He was a finalist in the Hollywood Laugh Factory’s International Donald Trump Impersonator Contest and is 2018’s champion of the Hard Rock Casino’s Annual Comedy Cage Match. When he’s not home with his wife of 20 years and his three children\, you can find Alex Elkin headlining comedy clubs across the country and cruise ships all over the world.  \nFacebook: https://www.facebook.com/AlexElkinComic/  \nYou Tube: https://www.youtube.com/c/AlexElkinComedian/featured  \nSpotify: https://open.spotify.com/artist/6i814qqL7DhDSYr4mvwur5 
URL:https://axeandfiddle.com/event/kegs-of-comedy-w-alex-elkin-10-advanced-purchase-12-day-of-show/
ATTACH;FMTTYPE=image/png:https://axeandfiddle.com/wp-content/uploads/2026/02/1080x1080-AF-KOC-Alex-E-1.png
END:VEVENT
END:VCALENDAR