BEGIN:VCALENDAR
VERSION:2.0
PRODID:-//The Axe and Fiddle - ECPv6.15.8//NONSGML v1.0//EN
CALSCALE:GREGORIAN
METHOD:PUBLISH
X-WR-CALNAME:The Axe and Fiddle
X-ORIGINAL-URL:https://axeandfiddle.com
X-WR-CALDESC:Events for The Axe and Fiddle
REFRESH-INTERVAL;VALUE=DURATION:PT1H
X-Robots-Tag:noindex
X-PUBLISHED-TTL:PT1H
BEGIN:VTIMEZONE
TZID:America/Los_Angeles
BEGIN:DAYLIGHT
TZOFFSETFROM:-0800
TZOFFSETTO:-0700
TZNAME:PDT
DTSTART:20250309T100000
END:DAYLIGHT
BEGIN:STANDARD
TZOFFSETFROM:-0700
TZOFFSETTO:-0800
TZNAME:PST
DTSTART:20251102T090000
END:STANDARD
BEGIN:DAYLIGHT
TZOFFSETFROM:-0800
TZOFFSETTO:-0700
TZNAME:PDT
DTSTART:20260308T100000
END:DAYLIGHT
BEGIN:STANDARD
TZOFFSETFROM:-0700
TZOFFSETTO:-0800
TZNAME:PST
DTSTART:20261101T090000
END:STANDARD
BEGIN:DAYLIGHT
TZOFFSETFROM:-0800
TZOFFSETTO:-0700
TZNAME:PDT
DTSTART:20270314T100000
END:DAYLIGHT
BEGIN:STANDARD
TZOFFSETFROM:-0700
TZOFFSETTO:-0800
TZNAME:PST
DTSTART:20271107T090000
END:STANDARD
END:VTIMEZONE
BEGIN:VEVENT
DTSTART;TZID=America/Los_Angeles:20260319T200000
DTEND;TZID=America/Los_Angeles:20260319T220000
DTSTAMP:20260423T013916
CREATED:20260207T200915Z
LAST-MODIFIED:20260207T200937Z
UID:445-1773950400-1773957600@axeandfiddle.com
SUMMARY:Billy and The Box Kid - $8 Cover
DESCRIPTION:Rock’n’Bluegrass  \nBilly and the Box Kid emerged as a duo in the Bend open mic scene when singer-songwriter Anderson Koenig (also known as Billy) and Scottie McClelland (the Box Kid) collided\, both searching for an outlet for their musical talent. They combined Koenig’s fast-paced acoustic country Rock and Roll with McClelland’s high-energy and distinctive style of playing the Cajon aka “box drum”. The band has since expanded into a five-piece with the addition of Tommy Lutz on mandolin\, Eric Nizol on lead guitar and Ben Woessner on bass. Along with other members of the Bend music community\, they create a unique sound that’s ripe to keep your dancing feet moving. Their music is influenced by 1950s Rock and Roll\, country\, and bluegrass\, with a hint of Southern blues. Their mission is to get folks out on the dance floor and stomping their feet. \nWebsite: https://billyandtheboxkidband.com/  \nFacebook: https://www.facebook.com/billyandtheboxkid0  \nInstagram: https://www.instagram.com/billyandtheboxkid
URL:https://axeandfiddle.com/event/billy-and-the-box-kid-8-cover/
ATTACH;FMTTYPE=image/png:https://axeandfiddle.com/wp-content/uploads/2026/02/1000018253.png
END:VEVENT
END:VCALENDAR