BEGIN:VCALENDAR
VERSION:2.0
PRODID:-//The Axe and Fiddle - ECPv6.15.8//NONSGML v1.0//EN
CALSCALE:GREGORIAN
METHOD:PUBLISH
X-ORIGINAL-URL:https://axeandfiddle.com
X-WR-CALDESC:Events for The Axe and Fiddle
REFRESH-INTERVAL;VALUE=DURATION:PT1H
X-Robots-Tag:noindex
X-PUBLISHED-TTL:PT1H
BEGIN:VTIMEZONE
TZID:America/Los_Angeles
BEGIN:DAYLIGHT
TZOFFSETFROM:-0800
TZOFFSETTO:-0700
TZNAME:PDT
DTSTART:20250309T100000
END:DAYLIGHT
BEGIN:STANDARD
TZOFFSETFROM:-0700
TZOFFSETTO:-0800
TZNAME:PST
DTSTART:20251102T090000
END:STANDARD
BEGIN:DAYLIGHT
TZOFFSETFROM:-0800
TZOFFSETTO:-0700
TZNAME:PDT
DTSTART:20260308T100000
END:DAYLIGHT
BEGIN:STANDARD
TZOFFSETFROM:-0700
TZOFFSETTO:-0800
TZNAME:PST
DTSTART:20261101T090000
END:STANDARD
BEGIN:DAYLIGHT
TZOFFSETFROM:-0800
TZOFFSETTO:-0700
TZNAME:PDT
DTSTART:20270314T100000
END:DAYLIGHT
BEGIN:STANDARD
TZOFFSETFROM:-0700
TZOFFSETTO:-0800
TZNAME:PST
DTSTART:20271107T090000
END:STANDARD
END:VTIMEZONE
BEGIN:VEVENT
DTSTART;TZID=America/Los_Angeles:20260328T200000
DTEND;TZID=America/Los_Angeles:20260328T220000
DTSTAMP:20260421T042653
CREATED:20260207T202615Z
LAST-MODIFIED:20260207T202615Z
UID:460-1774728000-1774735200@axeandfiddle.com
SUMMARY:Natsukashii Soul - $9 Cover
DESCRIPTION:
URL:https://axeandfiddle.com/event/natsukashii-soul-9-cover/
ATTACH;FMTTYPE=image/jpeg:https://axeandfiddle.com/wp-content/uploads/2026/02/SOCIALS-SQUARE-scaled.jpg
END:VEVENT
END:VCALENDAR