BEGIN:VCALENDAR
VERSION:2.0
PRODID:-//The Axe and Fiddle - ECPv6.15.8//NONSGML v1.0//EN
CALSCALE:GREGORIAN
METHOD:PUBLISH
X-WR-CALNAME:The Axe and Fiddle
X-ORIGINAL-URL:https://axeandfiddle.com
X-WR-CALDESC:Events for The Axe and Fiddle
REFRESH-INTERVAL;VALUE=DURATION:PT1H
X-Robots-Tag:noindex
X-PUBLISHED-TTL:PT1H
BEGIN:VTIMEZONE
TZID:America/Los_Angeles
BEGIN:DAYLIGHT
TZOFFSETFROM:-0800
TZOFFSETTO:-0700
TZNAME:PDT
DTSTART:20250309T100000
END:DAYLIGHT
BEGIN:STANDARD
TZOFFSETFROM:-0700
TZOFFSETTO:-0800
TZNAME:PST
DTSTART:20251102T090000
END:STANDARD
BEGIN:DAYLIGHT
TZOFFSETFROM:-0800
TZOFFSETTO:-0700
TZNAME:PDT
DTSTART:20260308T100000
END:DAYLIGHT
BEGIN:STANDARD
TZOFFSETFROM:-0700
TZOFFSETTO:-0800
TZNAME:PST
DTSTART:20261101T090000
END:STANDARD
BEGIN:DAYLIGHT
TZOFFSETFROM:-0800
TZOFFSETTO:-0700
TZNAME:PDT
DTSTART:20270314T100000
END:DAYLIGHT
BEGIN:STANDARD
TZOFFSETFROM:-0700
TZOFFSETTO:-0800
TZNAME:PST
DTSTART:20271107T090000
END:STANDARD
END:VTIMEZONE
BEGIN:VEVENT
DTSTART;TZID=America/Los_Angeles:20260417T200000
DTEND;TZID=America/Los_Angeles:20260417T220000
DTSTAMP:20260419T062827
CREATED:20260329T235156Z
LAST-MODIFIED:20260329T235156Z
UID:515-1776456000-1776463200@axeandfiddle.com
SUMMARY:Spinning Gold - FREE
DESCRIPTION:Americana \nSpinning Gold is a trio led by Trisha Daniel on vocals and 12-string guitar\, joined by her husband Ron Collins on vocals and 6-string guitar\, and Jim Gillam on harmonica and vocals. Our unique repertoire consists of Ron Collins’ original songs chronicling his life’s journey and songs by artists ranging from Kathy Mattea and John Prine to Willie Nelson and Woody Guthrie. Our music is propelled by heartfelt singing — marked by Trisha’s distinctive growl — and Jim’s soulful harmonica\, woven together over the steady rhythm of guitars.  Spinning Gold’s goal is simple yet powerful: to bring good music\, fun\, and laughter to every audience we meet. \nWebsite: https://spinninggoldband.com/ \nFacebook:  https://www.facebook.com/profile.php?id=61560496551678
URL:https://axeandfiddle.com/event/spinning-gold-free/
ATTACH;FMTTYPE=image/jpeg:https://axeandfiddle.com/wp-content/uploads/2026/03/Axe-Fiddle-8x11-2026-4-17.jpg
END:VEVENT
END:VCALENDAR